BEGIN:VCALENDAR
VERSION:2.0
PRODID:-//Warm Assendorp - ECPv6.15.20//NONSGML v1.0//EN
CALSCALE:GREGORIAN
METHOD:PUBLISH
X-ORIGINAL-URL:https://warmassendorp.nl
X-WR-CALDESC:Evenementen voor Warm Assendorp
REFRESH-INTERVAL;VALUE=DURATION:PT1H
X-Robots-Tag:noindex
X-PUBLISHED-TTL:PT1H
BEGIN:VTIMEZONE
TZID:Europe/Amsterdam
BEGIN:DAYLIGHT
TZOFFSETFROM:+0100
TZOFFSETTO:+0200
TZNAME:CEST
DTSTART:20240331T010000
END:DAYLIGHT
BEGIN:STANDARD
TZOFFSETFROM:+0200
TZOFFSETTO:+0100
TZNAME:CET
DTSTART:20241027T010000
END:STANDARD
BEGIN:DAYLIGHT
TZOFFSETFROM:+0100
TZOFFSETTO:+0200
TZNAME:CEST
DTSTART:20250330T010000
END:DAYLIGHT
BEGIN:STANDARD
TZOFFSETFROM:+0200
TZOFFSETTO:+0100
TZNAME:CET
DTSTART:20251026T010000
END:STANDARD
BEGIN:DAYLIGHT
TZOFFSETFROM:+0100
TZOFFSETTO:+0200
TZNAME:CEST
DTSTART:20260329T010000
END:DAYLIGHT
BEGIN:STANDARD
TZOFFSETFROM:+0200
TZOFFSETTO:+0100
TZNAME:CET
DTSTART:20261025T010000
END:STANDARD
END:VTIMEZONE
BEGIN:VEVENT
DTSTART;TZID=Europe/Amsterdam:20251213T100000
DTEND;TZID=Europe/Amsterdam:20251213T160000
DTSTAMP:20260421T022210
CREATED:20250829T163526Z
LAST-MODIFIED:20251117T155709Z
UID:10000013-1765620000-1765641600@warmassendorp.nl
SUMMARY:Schaftkeet rondom Sallandsweide
DESCRIPTION:Vandaag openen we de luiken van onze schaftkeet voor alle bewoners van het “oorspronkelijke plangebied”. Omdat onze schaftkeet niet door het steegje tussen de huizen door past om te plaatsen op de Sallandsweide staan we op de Assendorperdijk bij de parkeerplaats voor de gymzaal. We heten bewoners van de Molenweg\, Rozenstraat\, Sallandstraat\, Eerste en Tweede Weidjesstraat en Assendorperdijk van harte welkom. We staan van 10 tot 16 uur voor je klaar voor een kopje koffie of thee en vrijwilligers. \n\n\n\n \n\n\n\n \n\n\n\nKom langs en .. \n\n\n\n \n\n\n\n denk mee over:  \n\n\n\n\nrandvoorwaarden voor een warmtenet in de wijk\n\n\n\nbewonersvisie op een warmtenet in de wijk\n\n\n\n\n ga aan de slag met woningverduurzaming: \n\n\n\n\nwe delen materialen uit voor kleine maatregelen in je huis\n\n\n\nmaak een afspraak met een energiecoaches en krijg inzicht in woningverbeteringen die je wooncomfort verbeteren\n\n\n\ndoe mee aan onze collectieve inkoopacties\n\n\n\n\n krijg uitleg over: \n\n\n\nons water\, groen en mobiliteit programma \n\n\n\nonze collectieve inkoopacties \n\n\n\nsubsidiemogelijkheden voor woningverduurzaming (NIP van de gemeente Zwolle en ISDE)
URL:https://warmassendorp.nl/activiteit/schaftkeet-rondom-sallandsweide/
LOCATION:Assendorperdijk parkeerplaats bij gymzaal\, Assendorperdijk 110\, Zwolle\, 8012 EJ\, Netherlands
CATEGORIES:Straatevent
ATTACH;FMTTYPE=image/jpeg:https://warmassendorp.nl/wp-content/uploads/2025/08/we-openen-de-luiken.jpg
END:VEVENT
END:VCALENDAR