BEGIN:VCALENDAR
VERSION:2.0
PRODID:-//Warm Assendorp - ECPv6.15.20//NONSGML v1.0//EN
CALSCALE:GREGORIAN
METHOD:PUBLISH
X-WR-CALNAME:Warm Assendorp
X-ORIGINAL-URL:https://warmassendorp.nl
X-WR-CALDESC:Evenementen voor Warm Assendorp
REFRESH-INTERVAL;VALUE=DURATION:PT1H
X-Robots-Tag:noindex
X-PUBLISHED-TTL:PT1H
BEGIN:VTIMEZONE
TZID:Europe/Amsterdam
BEGIN:DAYLIGHT
TZOFFSETFROM:+0100
TZOFFSETTO:+0200
TZNAME:CEST
DTSTART:20250330T010000
END:DAYLIGHT
BEGIN:STANDARD
TZOFFSETFROM:+0200
TZOFFSETTO:+0100
TZNAME:CET
DTSTART:20251026T010000
END:STANDARD
BEGIN:DAYLIGHT
TZOFFSETFROM:+0100
TZOFFSETTO:+0200
TZNAME:CEST
DTSTART:20260329T010000
END:DAYLIGHT
BEGIN:STANDARD
TZOFFSETFROM:+0200
TZOFFSETTO:+0100
TZNAME:CET
DTSTART:20261025T010000
END:STANDARD
BEGIN:DAYLIGHT
TZOFFSETFROM:+0100
TZOFFSETTO:+0200
TZNAME:CEST
DTSTART:20270328T010000
END:DAYLIGHT
BEGIN:STANDARD
TZOFFSETFROM:+0200
TZOFFSETTO:+0100
TZNAME:CET
DTSTART:20271031T010000
END:STANDARD
END:VTIMEZONE
BEGIN:VEVENT
DTSTART;TZID=Europe/Amsterdam:20260604T193000
DTEND;TZID=Europe/Amsterdam:20260604T210000
DTSTAMP:20260420T214912
CREATED:20260420T143158Z
LAST-MODIFIED:20260420T143200Z
UID:10000025-1780601400-1780606800@warmassendorp.nl
SUMMARY:Klankbordgroep
DESCRIPTION:Tijdens deze avond sparren we met onze klankbordgroep over hoe we onze organisatie (verder) gaan inrichten\, wat er op dit moment allemaal gebeurt en binnenkort gaat gebeuren.
URL:https://warmassendorp.nl/activiteit/klankbordgroep/
LOCATION:MyOffice Assendorperdijk\, Assendorperdijk 1\, Zwolle\, 8012 EG\, Netherlands
CATEGORIES:Werkgroep
END:VEVENT
END:VCALENDAR