BEGIN:VCALENDAR
VERSION:2.0
PRODID:-//Warm Assendorp - ECPv6.15.20//NONSGML v1.0//EN
CALSCALE:GREGORIAN
METHOD:PUBLISH
X-ORIGINAL-URL:https://warmassendorp.nl
X-WR-CALDESC:Evenementen voor Warm Assendorp
REFRESH-INTERVAL;VALUE=DURATION:PT1H
X-Robots-Tag:noindex
X-PUBLISHED-TTL:PT1H
BEGIN:VTIMEZONE
TZID:Europe/Amsterdam
BEGIN:DAYLIGHT
TZOFFSETFROM:+0100
TZOFFSETTO:+0200
TZNAME:CEST
DTSTART:20250330T010000
END:DAYLIGHT
BEGIN:STANDARD
TZOFFSETFROM:+0200
TZOFFSETTO:+0100
TZNAME:CET
DTSTART:20251026T010000
END:STANDARD
BEGIN:DAYLIGHT
TZOFFSETFROM:+0100
TZOFFSETTO:+0200
TZNAME:CEST
DTSTART:20260329T010000
END:DAYLIGHT
BEGIN:STANDARD
TZOFFSETFROM:+0200
TZOFFSETTO:+0100
TZNAME:CET
DTSTART:20261025T010000
END:STANDARD
BEGIN:DAYLIGHT
TZOFFSETFROM:+0100
TZOFFSETTO:+0200
TZNAME:CEST
DTSTART:20270328T010000
END:DAYLIGHT
BEGIN:STANDARD
TZOFFSETFROM:+0200
TZOFFSETTO:+0100
TZNAME:CET
DTSTART:20271031T010000
END:STANDARD
END:VTIMEZONE
BEGIN:VEVENT
DTSTART;TZID=Europe/Amsterdam:20260413T190000
DTEND;TZID=Europe/Amsterdam:20260413T213000
DTSTAMP:20260421T010206
CREATED:20260402T100515Z
LAST-MODIFIED:20260409T081829Z
UID:10000018-1776106800-1776115800@warmassendorp.nl
SUMMARY:Selectie adviesbureau Voorlopig Ontwerp
DESCRIPTION:LET OP: aangepaste aanvangstijd: 19:00 \n\n\n\n \n\n\n\nTijdens deze ledenbijeenkomst kiezen we het adviesbureau dat ons helpt met het voorlopig ontwerp van het warmtenet. Uit vijf partijen die een offerte hebben gestuurd hebben we een voorselectie gemaakt.  \n\n\n\nDe laatste stap doen we graag samen met onze leden. Als lid ben je welkom om 19:00 uur in De Nieuwe Keuken (Assendorperplein 9). De geselecteerde bureaus presenteren zich deze avond. Na afloop horen we graag van jullie\, onder het genot van een drankje en een hapje\, welk bureau jullie voorkeur heeft. Aanmelden is noodzakelijk. \n\n\n\n \n\n\n\nAanmelden voor leden
URL:https://warmassendorp.nl/activiteit/selectie-adviesbureau-voorlopig-ontwerp/
LOCATION:De Nieuwe Keuken\, Assendorperplein 9\, Zwolle\, 8012 TW\, Netherlands
CATEGORIES:Ledenevent
ATTACH;FMTTYPE=image/jpeg:https://warmassendorp.nl/wp-content/uploads/2026/04/nieuwsbrief-header.jpg
END:VEVENT
END:VCALENDAR